BEGIN:VCALENDAR
VERSION:2.0
PRODID:-//Columbia Barnard Hillel//NONSGML v1.0//EN
CALSCALE:GREGORIAN
METHOD:PUBLISH
X-WR-CALNAME:Columbia Barnard Hillel
X-ORIGINAL-URL:https://columbiabarnardhillel.org
X-WR-CALDESC:Events for Columbia Barnard Hillel
BEGIN:VEVENT
DTSTART;TZID=America/New_York:20230425T180000
DTEND;TZID=America/New_York:20230425T210000
DTSTAMP:20260424T010247
CREATED:20230327T125048
LAST-MODIFIED:20230327T125048
UID:68580-18:00-21:00@columbiabarnardhillel.org
SUMMARY:Yom Haatzmaut
DESCRIPTION:
URL:https://columbiabarnardhillel.org/event/yom-haatzmaut-2/
LOCATION:Kraft Center - Terrace &#8211; 3rd Floor
CATEGORIES:uncategorized
END:VEVENT
END:VCALENDAR
