BEGIN:VCALENDAR
VERSION:2.0
PRODID:-//Columbia Barnard Hillel//NONSGML v1.0//EN
CALSCALE:GREGORIAN
METHOD:PUBLISH
X-WR-CALNAME:Columbia Barnard Hillel
X-ORIGINAL-URL:https://columbiabarnardhillel.org
X-WR-CALDESC:Events for Columbia Barnard Hillel
BEGIN:VEVENT
DTSTART;TZID=America/New_York:20260127T180000
DTEND;TZID=America/New_York:20260127T193000
DTSTAMP:20260420T203437
CREATED:20251229T161735
LAST-MODIFIED:20251229T161735
UID:78828-18:00-19:30@columbiabarnardhillel.org
SUMMARY:Israel Investment Initiative Weekly Meeting
DESCRIPTION:Israel Investment Initiative Weekly Meeting
URL:https://columbiabarnardhillel.org/event/israel-investment-initiative-weekly-meeting-6/
LOCATION:Kraft Center - Room 4C &#8211; 4th Floor
CATEGORIES:uncategorized
END:VEVENT
END:VCALENDAR
