BEGIN:VCALENDAR
VERSION:2.0
PRODID:-//Columbia Barnard Hillel//NONSGML v1.0//EN
CALSCALE:GREGORIAN
METHOD:PUBLISH
X-WR-CALNAME:Columbia Barnard Hillel
X-ORIGINAL-URL:https://columbiabarnardhillel.org
X-WR-CALDESC:Events for Columbia Barnard Hillel
BEGIN:VEVENT
DTSTART;TZID=America/New_York:20260127T180000
DTEND;TZID=America/New_York:20260127T193000
DTSTAMP:20260420T215940
CREATED:20260122T202559
LAST-MODIFIED:20260123T171536
UID:80145-18:00-19:30@columbiabarnardhillel.org
SUMMARY:HOLD for Brian - Elisha Wiesel Backup
DESCRIPTION:
URL:https://columbiabarnardhillel.org/event/hold-for-brian-elisha-wiesel-backup/
LOCATION:Kraft Center - Room 5AB &#8211; 5th Floor
CATEGORIES:uncategorized
END:VEVENT
END:VCALENDAR
